BEGIN:VCALENDAR
VERSION:2.0
PRODID:SchoolNow
CALSCALE:GREGORIAN
BEGIN:VEVENT
UID:c8bfdc24-5acf-11f0-8570-0a58a9feac02
DTSTAMP:20251216T154522Z
SUMMARY:Teacher Workday
URL;VALUE=URI:https://www.mcdowell.k12.nc.us/wme/calendar/8390614/teacher-w
 orkday
DTSTART;VALUE=DATE:20250822
DTEND;VALUE=DATE:20250823
END:VEVENT
END:VCALENDAR
