BEGIN:VCALENDAR
VERSION:2.0
PRODID:SchoolNow
CALSCALE:GREGORIAN
BEGIN:VEVENT
UID:c8bfdd1e-5acf-11f0-bd50-0a58a9feac02
DTSTAMP:20251216T154521Z
SUMMARY:First Day of School!
URL;VALUE=URI:https://www.mcdowell.k12.nc.us/wme/calendar/8390615/first-day
 -of-school
DTSTART;VALUE=DATE:20250825
DTEND;VALUE=DATE:20250826
END:VEVENT
END:VCALENDAR
