BEGIN:VCALENDAR
VERSION:2.0
PRODID:SchoolNow
CALSCALE:GREGORIAN
BEGIN:VEVENT
UID:c8bfde04-5acf-11f0-b429-0a58a9feac02
DTSTAMP:20251216T154521Z
SUMMARY:No School!
URL;VALUE=URI:https://www.mcdowell.k12.nc.us/wme/calendar/8390616/no-school
DTSTART;VALUE=DATE:20250901
DTEND;VALUE=DATE:20250902
END:VEVENT
END:VCALENDAR
