BEGIN:VCALENDAR
VERSION:2.0
PRODID:SchoolNow
CALSCALE:GREGORIAN
BEGIN:VEVENT
UID:c8bfdfd0-5acf-11f0-9345-0a58a9feac02
DTSTAMP:20251216T154522Z
SUMMARY:Patriot Day: Wear Red\, White\, & Blue
URL;VALUE=URI:https://www.mcdowell.k12.nc.us/wme/calendar/8390618/patriot-d
 ay-wear-red-white-blue
DTSTART;VALUE=DATE:20250911
DTEND;VALUE=DATE:20250912
END:VEVENT
END:VCALENDAR
