BEGIN:VCALENDAR
VERSION:2.0
PRODID:SchoolNow
CALSCALE:GREGORIAN
BEGIN:VEVENT
UID:c8bfe0ac-5acf-11f0-9478-0a58a9feac02
DTSTAMP:20251216T154521Z
SUMMARY:Dot Day: Wear Polka Dots
URL;VALUE=URI:https://www.mcdowell.k12.nc.us/wme/calendar/8390619/dot-day-w
 ear-polka-dots
DTSTART;VALUE=DATE:20250915
DTEND;VALUE=DATE:20250916
END:VEVENT
END:VCALENDAR
