BEGIN:VCALENDAR
VERSION:2.0
PRODID:SchoolNow
CALSCALE:GREGORIAN
BEGIN:VEVENT
UID:c8bfe188-5acf-11f0-9bb2-0a58a9feac02
DTSTAMP:20251216T154521Z
SUMMARY:National IT Appreciation Day-Mrs. Emma
URL;VALUE=URI:https://www.mcdowell.k12.nc.us/wme/calendar/8390620/national-
 it-appreciation-day-mrs-emma
DTSTART;VALUE=DATE:20250916
DTEND;VALUE=DATE:20250917
END:VEVENT
END:VCALENDAR
