BEGIN:VCALENDAR
VERSION:2.0
PRODID:SchoolNow
CALSCALE:GREGORIAN
BEGIN:VEVENT
UID:c8bfe282-5acf-11f0-b435-0a58a9feac02
DTSTAMP:20251216T154521Z
SUMMARY:Book Fair
URL;VALUE=URI:https://www.mcdowell.k12.nc.us/wme/calendar/8390621/book-fair
DTSTART;VALUE=DATE:20250922
DTEND;VALUE=DATE:20250923
END:VEVENT
END:VCALENDAR
