BEGIN:VCALENDAR
VERSION:2.0
PRODID:SchoolNow
CALSCALE:GREGORIAN
BEGIN:VEVENT
UID:c8bfe71e-5acf-11f0-9096-0a58a9feac02
DTSTAMP:20251216T154521Z
SUMMARY:National School Custodial Day-Mr. Andy
URL;VALUE=URI:https://www.mcdowell.k12.nc.us/wme/calendar/8390626/national-
 school-custodial-day-mr-andy
DTSTART;VALUE=DATE:20251002
DTEND;VALUE=DATE:20251003
END:VEVENT
END:VCALENDAR
