BEGIN:VCALENDAR
VERSION:2.0
PRODID:SchoolNow
CALSCALE:GREGORIAN
BEGIN:VEVENT
UID:c8bfe8e0-5acf-11f0-9d6a-0a58a9feac02
DTSTAMP:20251216T154522Z
SUMMARY:Fire Safety with SHMCFD
URL;VALUE=URI:https://www.mcdowell.k12.nc.us/wme/calendar/8390628/fire-safe
 ty-with-shmcfd
DTSTART;VALUE=DATE:20251014
DTEND;VALUE=DATE:20251015
END:VEVENT
END:VCALENDAR
