BEGIN:VCALENDAR
VERSION:2.0
PRODID:SchoolNow
CALSCALE:GREGORIAN
BEGIN:VEVENT
UID:c8bfe9bc-5acf-11f0-9c49-0a58a9feac02
DTSTAMP:20251216T154521Z
SUMMARY:Fire Safety with SHMCFD
URL;VALUE=URI:https://www.mcdowell.k12.nc.us/wme/calendar/8390629/fire-safe
 ty-with-shmcfd
DTSTART;VALUE=DATE:20251015
DTEND;VALUE=DATE:20251016
END:VEVENT
END:VCALENDAR
