BEGIN:VCALENDAR
VERSION:2.0
PRODID:SchoolNow
CALSCALE:GREGORIAN
BEGIN:VEVENT
UID:c8bfeb74-5acf-11f0-b535-0a58a9feac02
DTSTAMP:20251216T154521Z
SUMMARY:Fall Picture Day
URL;VALUE=URI:https://www.mcdowell.k12.nc.us/wme/calendar/8390631/fall-pict
 ure-day
DTSTART;VALUE=DATE:20251022
DTEND;VALUE=DATE:20251023
END:VEVENT
END:VCALENDAR
