BEGIN:VCALENDAR
VERSION:2.0
PRODID:SchoolNow
CALSCALE:GREGORIAN
BEGIN:VEVENT
UID:c8bfed2c-5acf-11f0-8219-0a58a9feac02
DTSTAMP:20251216T154521Z
SUMMARY:Red Ribbon Week
URL;VALUE=URI:https://www.mcdowell.k12.nc.us/wme/calendar/8390633/red-ribbo
 n-week
DTSTART;VALUE=DATE:20251027
DTEND;VALUE=DATE:20251028
END:VEVENT
END:VCALENDAR
