BEGIN:VCALENDAR
VERSION:2.0
PRODID:SchoolNow
CALSCALE:GREGORIAN
BEGIN:VEVENT
UID:c8bfefb6-5acf-11f0-8bc0-0a58a9feac02
DTSTAMP:20251216T154521Z
SUMMARY:Red Ribbon Week
URL;VALUE=URI:https://www.mcdowell.k12.nc.us/wme/calendar/8390636/red-ribbo
 n-week
DTSTART;VALUE=DATE:20251029
DTEND;VALUE=DATE:20251030
END:VEVENT
END:VCALENDAR
