BEGIN:VCALENDAR
VERSION:2.0
PRODID:SchoolNow
CALSCALE:GREGORIAN
BEGIN:VEVENT
UID:c8bff092-5acf-11f0-a65f-0a58a9feac02
DTSTAMP:20251216T154522Z
SUMMARY:Red Ribbon Week
URL;VALUE=URI:https://www.mcdowell.k12.nc.us/wme/calendar/8390637/red-ribbo
 n-week
DTSTART;VALUE=DATE:20251031
DTEND;VALUE=DATE:20251101
END:VEVENT
END:VCALENDAR
