BEGIN:VCALENDAR
VERSION:2.0
PRODID:SchoolNow
CALSCALE:GREGORIAN
BEGIN:VEVENT
UID:c8bff240-5acf-11f0-8f15-0a58a9feac02
DTSTAMP:20251216T154522Z
SUMMARY:No School-Veterans Day
URL;VALUE=URI:https://www.mcdowell.k12.nc.us/wme/calendar/8390639/no-school
 -veterans-day
DTSTART;VALUE=DATE:20251111
DTEND;VALUE=DATE:20251112
END:VEVENT
END:VCALENDAR
