BEGIN:VCALENDAR
VERSION:2.0
PRODID:SchoolNow
CALSCALE:GREGORIAN
BEGIN:VEVENT
UID:c8bff31c-5acf-11f0-bac6-0a58a9feac02
DTSTAMP:20251216T154521Z
SUMMARY:Fall Makeup Pictures
URL;VALUE=URI:https://www.mcdowell.k12.nc.us/wme/calendar/8390640/fall-make
 up-pictures
DTSTART;VALUE=DATE:20251121
DTEND;VALUE=DATE:20251122
END:VEVENT
END:VCALENDAR
