BEGIN:VCALENDAR
VERSION:2.0
PRODID:SchoolNow
CALSCALE:GREGORIAN
BEGIN:VEVENT
UID:c8bff3ee-5acf-11f0-a7f2-0a58a9feac02
DTSTAMP:20251216T154522Z
SUMMARY:Teacher Workday
URL;VALUE=URI:https://www.mcdowell.k12.nc.us/wme/calendar/8390641/teacher-w
 orkday
DTSTART;VALUE=DATE:20251126
DTEND;VALUE=DATE:20251127
END:VEVENT
END:VCALENDAR
