BEGIN:VCALENDAR
VERSION:2.0
PRODID:SchoolNow
CALSCALE:GREGORIAN
BEGIN:VEVENT
UID:c8bff4d4-5acf-11f0-a787-0a58a9feac02
DTSTAMP:20251216T154522Z
SUMMARY:No School-Thanksgiving Break
URL;VALUE=URI:https://www.mcdowell.k12.nc.us/wme/calendar/8390642/no-school
 -thanksgiving-break
DTSTART;VALUE=DATE:20251128
DTEND;VALUE=DATE:20251129
END:VEVENT
END:VCALENDAR
