BEGIN:VCALENDAR
VERSION:2.0
PRODID:SchoolNow
CALSCALE:GREGORIAN
BEGIN:VEVENT
UID:c8bff5b0-5acf-11f0-93f6-0a58a9feac02
DTSTAMP:20251216T154522Z
SUMMARY:No School-Happy Thanksgiving
URL;VALUE=URI:https://www.mcdowell.k12.nc.us/wme/calendar/8390643/no-school
 -happy-thanksgiving
DTSTART;VALUE=DATE:20251127
DTEND;VALUE=DATE:20251128
END:VEVENT
END:VCALENDAR
