BEGIN:VCALENDAR
VERSION:2.0
PRODID:SchoolNow
CALSCALE:GREGORIAN
BEGIN:VEVENT
UID:c8bff772-5acf-11f0-ae5b-0a58a9feac02
DTSTAMP:20251216T154522Z
SUMMARY:Holly Jolly Week
URL;VALUE=URI:https://www.mcdowell.k12.nc.us/wme/calendar/8390645/holly-jol
 ly-week
DTSTART;VALUE=DATE:20251208
DTEND;VALUE=DATE:20251209
END:VEVENT
END:VCALENDAR
