BEGIN:VCALENDAR
VERSION:2.0
PRODID:SchoolNow
CALSCALE:GREGORIAN
BEGIN:VEVENT
UID:c8bff9fc-5acf-11f0-9673-0a58a9feac02
DTSTAMP:20251216T154521Z
SUMMARY:Holly Jolly Week
URL;VALUE=URI:https://www.mcdowell.k12.nc.us/wme/calendar/8390648/holly-jol
 ly-week
DTSTART;VALUE=DATE:20251211
DTEND;VALUE=DATE:20251212
END:VEVENT
END:VCALENDAR
