BEGIN:VCALENDAR
VERSION:2.0
PRODID:SchoolNow
CALSCALE:GREGORIAN
BEGIN:VEVENT
UID:c8bffbaa-5acf-11f0-919a-0a58a9feac02
DTSTAMP:20251216T154522Z
SUMMARY:Holly Jolly Week
URL;VALUE=URI:https://www.mcdowell.k12.nc.us/wme/calendar/8390650/holly-jol
 ly-week
DTSTART;VALUE=DATE:20251215
DTEND;VALUE=DATE:20251216
END:VEVENT
END:VCALENDAR
