BEGIN:VCALENDAR
VERSION:2.0
PRODID:SchoolNow
CALSCALE:GREGORIAN
BEGIN:VEVENT
UID:c8bffc90-5acf-11f0-a23e-0a58a9feac02
DTSTAMP:20251216T154521Z
SUMMARY:Holly Jolly Week
URL;VALUE=URI:https://www.mcdowell.k12.nc.us/wme/calendar/8390651/holly-jol
 ly-week
DTSTART;VALUE=DATE:20251216
DTEND;VALUE=DATE:20251217
END:VEVENT
END:VCALENDAR
