BEGIN:VCALENDAR
VERSION:2.0
PRODID:SchoolNow
CALSCALE:GREGORIAN
BEGIN:VEVENT
UID:c8c000e6-5acf-11f0-8e04-0a58a9feac02
DTSTAMP:20251216T154522Z
SUMMARY:Circle Sing
URL;VALUE=URI:https://www.mcdowell.k12.nc.us/wme/calendar/8390656/circle-si
 ng
DTSTART;VALUE=DATE:20251219
DTEND;VALUE=DATE:20251220
END:VEVENT
END:VCALENDAR
