BEGIN:VCALENDAR
VERSION:2.0
PRODID:SchoolNow
CALSCALE:GREGORIAN
BEGIN:VEVENT
UID:c8c001c2-5acf-11f0-acaf-0a58a9feac02
DTSTAMP:20251216T154522Z
SUMMARY:No School
URL;VALUE=URI:https://www.mcdowell.k12.nc.us/wme/calendar/8390657/no-school
DTSTART;VALUE=DATE:20251222
DTEND;VALUE=DATE:20251223
END:VEVENT
END:VCALENDAR
