BEGIN:VCALENDAR
VERSION:2.0
PRODID:SchoolNow
CALSCALE:GREGORIAN
BEGIN:VEVENT
UID:c8c00370-5acf-11f0-a562-0a58a9feac02
DTSTAMP:20251216T154521Z
SUMMARY:No School
URL;VALUE=URI:https://www.mcdowell.k12.nc.us/wme/calendar/8390659/no-school
DTSTART;VALUE=DATE:20251224
DTEND;VALUE=DATE:20251225
END:VEVENT
END:VCALENDAR
