BEGIN:VCALENDAR
VERSION:2.0
PRODID:SchoolNow
CALSCALE:GREGORIAN
BEGIN:VEVENT
UID:c8c00780-5acf-11f0-a892-0a58a9feac02
DTSTAMP:20251216T154521Z
SUMMARY:No School
URL;VALUE=URI:https://www.mcdowell.k12.nc.us/wme/calendar/8390663/no-school
DTSTART;VALUE=DATE:20251230
DTEND;VALUE=DATE:20251231
END:VEVENT
END:VCALENDAR
