BEGIN:VCALENDAR
VERSION:2.0
PRODID:SchoolNow
CALSCALE:GREGORIAN
BEGIN:VEVENT
UID:c8c00ee2-5acf-11f0-b9f1-0a58a9feac02
DTSTAMP:20251216T154521Z
SUMMARY:No School-MLK Day
URL;VALUE=URI:https://www.mcdowell.k12.nc.us/wme/calendar/8390669/no-school
 -mlk-day
DTSTART;VALUE=DATE:20260119
DTEND;VALUE=DATE:20260120
END:VEVENT
END:VCALENDAR
