BEGIN:VCALENDAR
VERSION:2.0
PRODID:SchoolNow
CALSCALE:GREGORIAN
BEGIN:VEVENT
UID:c8c00fbe-5acf-11f0-9b60-0a58a9feac02
DTSTAMP:20251216T154521Z
SUMMARY:Teacher Workday
URL;VALUE=URI:https://www.mcdowell.k12.nc.us/wme/calendar/8390670/teacher-w
 orkday
DTSTART;VALUE=DATE:20260120
DTEND;VALUE=DATE:20260121
END:VEVENT
END:VCALENDAR
