BEGIN:VCALENDAR
VERSION:2.0
PRODID:SchoolNow
CALSCALE:GREGORIAN
BEGIN:VEVENT
UID:c8c01270-5acf-11f0-a87d-0a58a9feac02
DTSTAMP:20251216T154521Z
SUMMARY:100th Day of School (weather pending)
URL;VALUE=URI:https://www.mcdowell.k12.nc.us/wme/calendar/8390673/100th-day
 -of-school-weather-pending
DTSTART;VALUE=DATE:20260205
DTEND;VALUE=DATE:20260206
END:VEVENT
END:VCALENDAR
