BEGIN:VCALENDAR
VERSION:2.0
PRODID:SchoolNow
CALSCALE:GREGORIAN
BEGIN:VEVENT
UID:c8c01360-5acf-11f0-8066-0a58a9feac02
DTSTAMP:20251216T154521Z
SUMMARY:Teacher Workday
URL;VALUE=URI:https://www.mcdowell.k12.nc.us/wme/calendar/8390674/teacher-w
 orkday
DTSTART;VALUE=DATE:20260213
DTEND;VALUE=DATE:20260214
END:VEVENT
END:VCALENDAR
