BEGIN:VCALENDAR
VERSION:2.0
PRODID:SchoolNow
CALSCALE:GREGORIAN
BEGIN:VEVENT
UID:c8c01446-5acf-11f0-a832-0a58a9feac02
DTSTAMP:20251216T154521Z
SUMMARY:SRO Appreciation Day: Officer Hardy
URL;VALUE=URI:https://www.mcdowell.k12.nc.us/wme/calendar/8390675/sro-appre
 ciation-day-officer-hardy
DTSTART;VALUE=DATE:20260216
DTEND;VALUE=DATE:20260217
END:VEVENT
END:VCALENDAR
