BEGIN:VCALENDAR
VERSION:2.0
PRODID:SchoolNow
CALSCALE:GREGORIAN
BEGIN:VEVENT
UID:c8c01518-5acf-11f0-8144-0a58a9feac02
DTSTAMP:20251216T154522Z
SUMMARY:Spring Picture Day
URL;VALUE=URI:https://www.mcdowell.k12.nc.us/wme/calendar/8390676/spring-pi
 cture-day
DTSTART;VALUE=DATE:20260219
DTEND;VALUE=DATE:20260220
END:VEVENT
END:VCALENDAR
