BEGIN:VCALENDAR
VERSION:2.0
PRODID:SchoolNow
CALSCALE:GREGORIAN
BEGIN:VEVENT
UID:c8c015f4-5acf-11f0-9bbe-0a58a9feac02
DTSTAMP:20251216T154522Z
SUMMARY:School Bus Driver Appreciation
URL;VALUE=URI:https://www.mcdowell.k12.nc.us/wme/calendar/8390677/school-bu
 s-driver-appreciation
DTSTART;VALUE=DATE:20260223
DTEND;VALUE=DATE:20260224
END:VEVENT
END:VCALENDAR
