BEGIN:VCALENDAR
VERSION:2.0
PRODID:SchoolNow
CALSCALE:GREGORIAN
BEGIN:VEVENT
UID:c8c017ac-5acf-11f0-a7a1-0a58a9feac02
DTSTAMP:20251216T154521Z
SUMMARY:Read Across America
URL;VALUE=URI:https://www.mcdowell.k12.nc.us/wme/calendar/8390678/read-acro
 ss-america
DTSTART;VALUE=DATE:20260302
DTEND;VALUE=DATE:20260303
END:VEVENT
END:VCALENDAR
