BEGIN:VCALENDAR
VERSION:2.0
PRODID:SchoolNow
CALSCALE:GREGORIAN
BEGIN:VEVENT
UID:c8c0189c-5acf-11f0-905f-0a58a9feac02
DTSTAMP:20251216T154521Z
SUMMARY:National School Social Worker Week
URL;VALUE=URI:https://www.mcdowell.k12.nc.us/wme/calendar/8390679/national-
 school-social-worker-week
DTSTART;VALUE=DATE:20260302
DTEND;VALUE=DATE:20260303
END:VEVENT
END:VCALENDAR
