BEGIN:VCALENDAR
VERSION:2.0
PRODID:SchoolNow
CALSCALE:GREGORIAN
BEGIN:VEVENT
UID:c8c01a86-5acf-11f0-99c8-0a58a9feac02
DTSTAMP:20251216T154522Z
SUMMARY:1/2 Day for Students
URL;VALUE=URI:https://www.mcdowell.k12.nc.us/wme/calendar/8390681/1-2-day-f
 or-students
DTSTART;VALUE=DATE:20260313
DTEND;VALUE=DATE:20260314
END:VEVENT
END:VCALENDAR
