BEGIN:VCALENDAR
VERSION:2.0
PRODID:SchoolNow
CALSCALE:GREGORIAN
BEGIN:VEVENT
UID:c8c01d24-5acf-11f0-9ecb-0a58a9feac02
DTSTAMP:20251216T154521Z
SUMMARY:Spring Break
URL;VALUE=URI:https://www.mcdowell.k12.nc.us/wme/calendar/8390684/spring-br
 eak
DTSTART;VALUE=DATE:20260331
DTEND;VALUE=DATE:20260401
END:VEVENT
END:VCALENDAR
