BEGIN:VCALENDAR
VERSION:2.0
PRODID:SchoolNow
CALSCALE:GREGORIAN
BEGIN:VEVENT
UID:c8c01e0a-5acf-11f0-aa77-0a58a9feac02
DTSTAMP:20251216T154521Z
SUMMARY:Spring Break
URL;VALUE=URI:https://www.mcdowell.k12.nc.us/wme/calendar/8390685/spring-br
 eak
DTSTART;VALUE=DATE:20260402
DTEND;VALUE=DATE:20260403
END:VEVENT
END:VCALENDAR
