BEGIN:VCALENDAR
VERSION:2.0
PRODID:SchoolNow
CALSCALE:GREGORIAN
BEGIN:VEVENT
UID:c8c01ee6-5acf-11f0-b937-0a58a9feac02
DTSTAMP:20251216T154521Z
SUMMARY:Spring Break
URL;VALUE=URI:https://www.mcdowell.k12.nc.us/wme/calendar/8390686/spring-br
 eak
DTSTART;VALUE=DATE:20260403
DTEND;VALUE=DATE:20260404
END:VEVENT
END:VCALENDAR
