BEGIN:VCALENDAR
VERSION:2.0
PRODID:SchoolNow
CALSCALE:GREGORIAN
BEGIN:VEVENT
UID:c8c020b2-5acf-11f0-a883-0a58a9feac02
DTSTAMP:20251216T154522Z
SUMMARY:School Assistant Principal Day-Mrs. Corns
URL;VALUE=URI:https://www.mcdowell.k12.nc.us/wme/calendar/8390688/school-as
 sistant-principal-day-mrs-corns
DTSTART;VALUE=DATE:20260408
DTEND;VALUE=DATE:20260409
END:VEVENT
END:VCALENDAR
