BEGIN:VCALENDAR
VERSION:2.0
PRODID:SchoolNow
CALSCALE:GREGORIAN
BEGIN:VEVENT
UID:c8c0218e-5acf-11f0-a2c2-0a58a9feac02
DTSTAMP:20251216T154521Z
SUMMARY:National School Librarian Day-Mrs. Ashley
URL;VALUE=URI:https://www.mcdowell.k12.nc.us/wme/calendar/8390689/national-
 school-librarian-day-mrs-ashley
DTSTART;VALUE=DATE:20260415
DTEND;VALUE=DATE:20260416
END:VEVENT
END:VCALENDAR
