BEGIN:VCALENDAR
VERSION:2.0
PRODID:SchoolNow
CALSCALE:GREGORIAN
BEGIN:VEVENT
UID:c8c0226a-5acf-11f0-80fd-0a58a9feac02
DTSTAMP:20251216T154521Z
SUMMARY:National Library Week
URL;VALUE=URI:https://www.mcdowell.k12.nc.us/wme/calendar/8390690/national-
 library-week
DTSTART;VALUE=DATE:20260420
DTEND;VALUE=DATE:20260421
END:VEVENT
END:VCALENDAR
