BEGIN:VCALENDAR
VERSION:2.0
PRODID:SchoolNow
CALSCALE:GREGORIAN
BEGIN:VEVENT
UID:c8c02346-5acf-11f0-a4d8-0a58a9feac02
DTSTAMP:20251216T154521Z
SUMMARY:Admin Professional Day: Mrs. April\, Mrs. Kristi
URL;VALUE=URI:https://www.mcdowell.k12.nc.us/wme/calendar/8390691/admin-pro
 fessional-day-mrs-april-mrs-kristi
DTSTART;VALUE=DATE:20260422
DTEND;VALUE=DATE:20260423
END:VEVENT
END:VCALENDAR
