BEGIN:VCALENDAR
VERSION:2.0
PRODID:SchoolNow
CALSCALE:GREGORIAN
BEGIN:VEVENT
UID:c8c02422-5acf-11f0-a3e5-0a58a9feac02
DTSTAMP:20251216T154521Z
SUMMARY:School Principal Day-Dr. Weese
URL;VALUE=URI:https://www.mcdowell.k12.nc.us/wme/calendar/8390692/school-pr
 incipal-day-dr-weese
DTSTART;VALUE=DATE:20260501
DTEND;VALUE=DATE:20260502
END:VEVENT
END:VCALENDAR
