BEGIN:VCALENDAR
VERSION:2.0
PRODID:SchoolNow
CALSCALE:GREGORIAN
BEGIN:VEVENT
UID:c8c025ee-5acf-11f0-bc27-0a58a9feac02
DTSTAMP:20251216T154522Z
SUMMARY:Teacher Appreciation Week
URL;VALUE=URI:https://www.mcdowell.k12.nc.us/wme/calendar/8390694/teacher-a
 ppreciation-week
DTSTART;VALUE=DATE:20260504
DTEND;VALUE=DATE:20260505
END:VEVENT
END:VCALENDAR
