BEGIN:VCALENDAR
VERSION:2.0
PRODID:SchoolNow
CALSCALE:GREGORIAN
BEGIN:VEVENT
UID:c8c02a6c-5acf-11f0-9589-0a58a9feac02
DTSTAMP:20251216T154521Z
SUMMARY:Nurse Appreciation Day: Nurse Autumn
URL;VALUE=URI:https://www.mcdowell.k12.nc.us/wme/calendar/8390699/nurse-app
 reciation-day-nurse-autumn
DTSTART;VALUE=DATE:20260506
DTEND;VALUE=DATE:20260507
END:VEVENT
END:VCALENDAR
