BEGIN:VCALENDAR
VERSION:2.0
PRODID:SchoolNow
CALSCALE:GREGORIAN
BEGIN:VEVENT
UID:c8c02b5c-5acf-11f0-9802-0a58a9feac02
DTSTAMP:20251216T154521Z
SUMMARY:1/2 Day for Students
URL;VALUE=URI:https://www.mcdowell.k12.nc.us/wme/calendar/8390700/1-2-day-f
 or-students
DTSTART;VALUE=DATE:20260508
DTEND;VALUE=DATE:20260509
END:VEVENT
END:VCALENDAR
