BEGIN:VCALENDAR
VERSION:2.0
PRODID:SchoolNow
CALSCALE:GREGORIAN
BEGIN:VEVENT
UID:c8c02c42-5acf-11f0-a147-0a58a9feac02
DTSTAMP:20251216T154522Z
SUMMARY:Spring Book Fair
URL;VALUE=URI:https://www.mcdowell.k12.nc.us/wme/calendar/8390701/spring-bo
 ok-fair
DTSTART;VALUE=DATE:20260518
DTEND;VALUE=DATE:20260519
END:VEVENT
END:VCALENDAR
