BEGIN:VCALENDAR
VERSION:2.0
PRODID:SchoolNow
CALSCALE:GREGORIAN
BEGIN:VEVENT
UID:c8c02ecc-5acf-11f0-9245-0a58a9feac02
DTSTAMP:20251216T154521Z
SUMMARY:Spring Book Fair
URL;VALUE=URI:https://www.mcdowell.k12.nc.us/wme/calendar/8390704/spring-bo
 ok-fair
DTSTART;VALUE=DATE:20260521
DTEND;VALUE=DATE:20260522
END:VEVENT
END:VCALENDAR
